BEGIN:VCALENDAR
VERSION:2.0
PRODID:-//الاحداث القادمة - ECPv5.8.2//NONSGML v1.0//EN
CALSCALE:GREGORIAN
METHOD:PUBLISH
X-WR-CALNAME:الاحداث القادمة
X-ORIGINAL-URL:https://events.aliraqia.edu.iq
X-WR-CALDESC:Events for الاحداث القادمة
BEGIN:VTIMEZONE
TZID:Europe/Moscow
BEGIN:STANDARD
TZOFFSETFROM:+0300
TZOFFSETTO:+0300
TZNAME:MSK
DTSTART:20210101T000000
END:STANDARD
END:VTIMEZONE
BEGIN:VEVENT
DTSTART;TZID=Europe/Moscow:20210526T080000
DTEND;TZID=Europe/Moscow:20210526T170000
DTSTAMP:20210828T055049
CREATED:20210526T143517Z
LAST-MODIFIED:20210526T143517Z
UID:1931-1622016000-1622048400@events.aliraqia.edu.iq
SUMMARY:three
DESCRIPTION:
URL:https://events.aliraqia.edu.iq/event/three
END:VEVENT
BEGIN:VEVENT
DTSTART;TZID=Europe/Moscow:20210526T080000
DTEND;TZID=Europe/Moscow:20210526T170000
DTSTAMP:20210828T055049
CREATED:20210526T143452Z
LAST-MODIFIED:20210526T143452Z
UID:1929-1622016000-1622048400@events.aliraqia.edu.iq
SUMMARY:two
DESCRIPTION:
URL:https://events.aliraqia.edu.iq/event/two
END:VEVENT
BEGIN:VEVENT
DTSTART;VALUE=DATE:20210526
DTEND;VALUE=DATE:20210527
DTSTAMP:20210828T055049
CREATED:20210526T141310Z
LAST-MODIFIED:20210526T141310Z
UID:1927-1621987200-1622073599@events.aliraqia.edu.iq
SUMMARY:test event
DESCRIPTION:
URL:https://events.aliraqia.edu.iq/event/test-event
END:VEVENT
END:VCALENDAR